BEGIN:VCALENDAR
VERSION:2.0
PRODID:-//Swisscore - ECPv6.15.17//NONSGML v1.0//EN
CALSCALE:GREGORIAN
METHOD:PUBLISH
X-WR-CALNAME:Swisscore
X-ORIGINAL-URL:https://www.swisscore.org
X-WR-CALDESC:Events for Swisscore
REFRESH-INTERVAL;VALUE=DURATION:PT1H
X-Robots-Tag:noindex
X-PUBLISHED-TTL:PT1H
BEGIN:VTIMEZONE
TZID:Europe/Brussels
BEGIN:DAYLIGHT
TZOFFSETFROM:+0100
TZOFFSETTO:+0200
TZNAME:CEST
DTSTART:20240331T010000
END:DAYLIGHT
BEGIN:STANDARD
TZOFFSETFROM:+0200
TZOFFSETTO:+0100
TZNAME:CET
DTSTART:20241027T010000
END:STANDARD
BEGIN:DAYLIGHT
TZOFFSETFROM:+0100
TZOFFSETTO:+0200
TZNAME:CEST
DTSTART:20250330T010000
END:DAYLIGHT
BEGIN:STANDARD
TZOFFSETFROM:+0200
TZOFFSETTO:+0100
TZNAME:CET
DTSTART:20251026T010000
END:STANDARD
BEGIN:DAYLIGHT
TZOFFSETFROM:+0100
TZOFFSETTO:+0200
TZNAME:CEST
DTSTART:20260329T010000
END:DAYLIGHT
BEGIN:STANDARD
TZOFFSETFROM:+0200
TZOFFSETTO:+0100
TZNAME:CET
DTSTART:20261025T010000
END:STANDARD
END:VTIMEZONE
BEGIN:VEVENT
DTSTART;TZID=Europe/Brussels:20251022T133000
DTEND;TZID=Europe/Brussels:20251022T163000
DTSTAMP:20260424T173321
CREATED:20250930T125459Z
LAST-MODIFIED:20251127T141325Z
UID:10000095-1761139800-1761150600@www.swisscore.org
SUMMARY:AI-Powered Solutions Transforming Healthcare
DESCRIPTION:SwissCore\, the Lithuanian RDI Liaison Office (LINO) and the Slovak Liaison Office for Research and Development in Brussels (SLORD) jointly organised an event focusing on the transformative power of AI applications in healthcare. \n\n\n\nWe explored three real-life applications of AI that are reshaping medical diagnostics\, treatment predictions\, disease modelling\, and more. \n\n\n\nThis international event featured inspiring presentations and discussions from leading research experts from Switzerland\, Slovakia and Lithuania\, each sharing cutting-edge examples of how AI is improving lives and advancing health systems. One of the speakers\, Dr. Ricardo Chavarriaga from the Zurich University of Applied Sciences\, provided a presentation on governance platforms for responsible brain data sharing. The event closed with a panel discussion between the experts and European regulators on how to build trust in AI. \n\n\n\nProgramme: here \n\n\n\nSummary of the event: here
URL:https://www.swisscore.org/event/ai-powered-solutions-transforming-healthcare/
END:VEVENT
END:VCALENDAR