BEGIN:VCALENDAR
VERSION:2.0
PRODID:-//Swisscore - ECPv6.15.17//NONSGML v1.0//EN
CALSCALE:GREGORIAN
METHOD:PUBLISH
X-ORIGINAL-URL:https://www.swisscore.org
X-WR-CALDESC:Events for Swisscore
REFRESH-INTERVAL;VALUE=DURATION:PT1H
X-Robots-Tag:noindex
X-PUBLISHED-TTL:PT1H
BEGIN:VTIMEZONE
TZID:Europe/Brussels
BEGIN:DAYLIGHT
TZOFFSETFROM:+0100
TZOFFSETTO:+0200
TZNAME:CEST
DTSTART:20240331T010000
END:DAYLIGHT
BEGIN:STANDARD
TZOFFSETFROM:+0200
TZOFFSETTO:+0100
TZNAME:CET
DTSTART:20241027T010000
END:STANDARD
BEGIN:DAYLIGHT
TZOFFSETFROM:+0100
TZOFFSETTO:+0200
TZNAME:CEST
DTSTART:20250330T010000
END:DAYLIGHT
BEGIN:STANDARD
TZOFFSETFROM:+0200
TZOFFSETTO:+0100
TZNAME:CET
DTSTART:20251026T010000
END:STANDARD
BEGIN:DAYLIGHT
TZOFFSETFROM:+0100
TZOFFSETTO:+0200
TZNAME:CEST
DTSTART:20260329T010000
END:DAYLIGHT
BEGIN:STANDARD
TZOFFSETFROM:+0200
TZOFFSETTO:+0100
TZNAME:CET
DTSTART:20261025T010000
END:STANDARD
END:VTIMEZONE
BEGIN:VEVENT
DTSTART;TZID=Europe/Brussels:20250903T120000
DTEND;TZID=Europe/Brussels:20250903T120000
DTSTAMP:20260424T190847
CREATED:20250617T091523Z
LAST-MODIFIED:20250930T130247Z
UID:10000094-1756900800-1756900800@www.swisscore.org
SUMMARY:A Generation of knowledge - Impact of 30 Years of Swiss-EU Collaboration
DESCRIPTION:On 3 September 2025\, SwissCore celebrated its 30th Anniversary\, marking three decades of bringing Switzerland and the EU closer together in research\, innovation and education.  \n\n\n\nTaking place at a pivotal moment\, as Switzerland re-engages in Horizon Europe\, this anniversary marked both a recognition of shared achievements and a renewed commitment to deepening European partnerships. \n\n\n\nTo mark this moment\, we brought together high-level policymakers\, researchers\, innovators and education leaders from Switzerland and the EU to highlight the mutual benefits of collaboration\, showcase success stories and reflect on the role of Swiss participation in shaping European competitiveness.The event programme included keynote speeches\, panel discussions and video messages featuring Swiss-EU success stories across research\, innovation and education. \n\n\n\nProgramme: here \n\n\n\nSummary of the event: here \n\n\n\nCelebratory video: here \n\n\n\n30 years – 30 Swiss-EU success stories: here
URL:https://www.swisscore.org/event/a-generation-of-knowledge-impact-of-30-years-of-swiss-eu-collaboration/
ATTACH;FMTTYPE=image/jpeg:https://www.swisscore.org/wp-content/uploads/Banner_invitation.jpg
END:VEVENT
END:VCALENDAR