BEGIN:VCALENDAR
VERSION:2.0
PRODID:-//Swisscore - ECPv6.15.17//NONSGML v1.0//EN
CALSCALE:GREGORIAN
METHOD:PUBLISH
X-ORIGINAL-URL:https://www.swisscore.org
X-WR-CALDESC:Events for Swisscore
REFRESH-INTERVAL;VALUE=DURATION:PT1H
X-Robots-Tag:noindex
X-PUBLISHED-TTL:PT1H
BEGIN:VTIMEZONE
TZID:Europe/Brussels
BEGIN:DAYLIGHT
TZOFFSETFROM:+0100
TZOFFSETTO:+0200
TZNAME:CEST
DTSTART:20240331T010000
END:DAYLIGHT
BEGIN:STANDARD
TZOFFSETFROM:+0200
TZOFFSETTO:+0100
TZNAME:CET
DTSTART:20241027T010000
END:STANDARD
BEGIN:DAYLIGHT
TZOFFSETFROM:+0100
TZOFFSETTO:+0200
TZNAME:CEST
DTSTART:20250330T010000
END:DAYLIGHT
BEGIN:STANDARD
TZOFFSETFROM:+0200
TZOFFSETTO:+0100
TZNAME:CET
DTSTART:20251026T010000
END:STANDARD
BEGIN:DAYLIGHT
TZOFFSETFROM:+0100
TZOFFSETTO:+0200
TZNAME:CEST
DTSTART:20260329T010000
END:DAYLIGHT
BEGIN:STANDARD
TZOFFSETFROM:+0200
TZOFFSETTO:+0100
TZNAME:CET
DTSTART:20261025T010000
END:STANDARD
END:VTIMEZONE
BEGIN:VEVENT
DTSTART;TZID=Europe/Brussels:20250409T133000
DTEND;TZID=Europe/Brussels:20250409T133000
DTSTAMP:20260425T025157
CREATED:20250226T093723Z
LAST-MODIFIED:20250417T073617Z
UID:10000091-1744205400-1744205400@www.swisscore.org
SUMMARY:Africa – Europe 360° cooperation based on equitable R&I partnerships: role and contribution from Switzerland
DESCRIPTION:The University of Bern\, The Guild\, and SwissCore jointly organised a Research and Innovation Briefing on ‘Africa – Europe 360° cooperation based on equitable R&I partnerships: role and contribution from Switzerland’. The event was hosted by the Mission of Switzerland to the EU. \n\n\n\nThe African Union (AU) and the European Union (EU) adopted in July 2023 the joint AU-EU Innovation Agenda to enhance cooperation in science\, technology and innovation. Universities have been engaged and contributing to the priority areas of this agenda and can play an instrumental role in building a competitive\, 360-degree approach for Europe’s international partnerships with colleagues in Africa and across the wider global stage. \n\n\n\nDuring this event\, we look into the Africa-Europe Clusters of Research Excellence (CoRE) launched by the African Research Universities Alliance (ARUA) and The Guild of European Research-Intensive Universities and how this initiative contributed to creating equitable partnerships. Furthermore\, leading scientists presented their initiatives\, achievements and challenges faced while engaging in international cooperation. \n\n\n\nProgramme: here \n\n\n\nSummary of the event: here \n\n\n\nPresentations of:  \n\n\n\n\nProf. Dr. Hugues Abriel: here\n\n\n\nProf. Dr. Carmen Faso: here\n\n\n\nProf. Dr. Shahida Moosa: here\n\n\n\nProf. Dr. Thomas Breu: here\n\n\n\nDr. Gete Zeleke: here\n\n\n\nJean Claude Makangara: here
URL:https://www.swisscore.org/event/ri-briefing-africa-europe-360-cooperation-based-on-equitable-ri-partnerships-role-and-contribution-from-switzerland/
ATTACH;FMTTYPE=image/png:https://www.swisscore.org/wp-content/uploads/RI-Briefing-2025_banner-new.png
END:VEVENT
END:VCALENDAR