BEGIN:VCALENDAR
VERSION:2.0
PRODID:-//Swisscore - ECPv6.15.17//NONSGML v1.0//EN
CALSCALE:GREGORIAN
METHOD:PUBLISH
X-WR-CALNAME:Swisscore
X-ORIGINAL-URL:https://www.swisscore.org
X-WR-CALDESC:Events for Swisscore
REFRESH-INTERVAL;VALUE=DURATION:PT1H
X-Robots-Tag:noindex
X-PUBLISHED-TTL:PT1H
BEGIN:VTIMEZONE
TZID:Europe/Brussels
BEGIN:DAYLIGHT
TZOFFSETFROM:+0100
TZOFFSETTO:+0200
TZNAME:CEST
DTSTART:20240331T010000
END:DAYLIGHT
BEGIN:STANDARD
TZOFFSETFROM:+0200
TZOFFSETTO:+0100
TZNAME:CET
DTSTART:20241027T010000
END:STANDARD
BEGIN:DAYLIGHT
TZOFFSETFROM:+0100
TZOFFSETTO:+0200
TZNAME:CEST
DTSTART:20250330T010000
END:DAYLIGHT
BEGIN:STANDARD
TZOFFSETFROM:+0200
TZOFFSETTO:+0100
TZNAME:CET
DTSTART:20251026T010000
END:STANDARD
BEGIN:DAYLIGHT
TZOFFSETFROM:+0100
TZOFFSETTO:+0200
TZNAME:CEST
DTSTART:20260329T010000
END:DAYLIGHT
BEGIN:STANDARD
TZOFFSETFROM:+0200
TZOFFSETTO:+0100
TZNAME:CET
DTSTART:20261025T010000
END:STANDARD
END:VTIMEZONE
BEGIN:VEVENT
DTSTART;TZID=Europe/Brussels:20250326T173000
DTEND;TZID=Europe/Brussels:20250326T173000
DTSTAMP:20260425T042912
CREATED:20250227T102230Z
LAST-MODIFIED:20250331T135603Z
UID:10000092-1743010200-1743010200@www.swisscore.org
SUMMARY:EduCafé: Teaching critical thinking in the age of AI
DESCRIPTION:This new edition of the EduCafé was co-organised by the Czech Liaison Office CZELO\, the Academic Cooperation Association (ACA) and SwissCore. \n\n\n\nAn international panel offered insights on how to prepare students and lifelong learners for life in the age of AI\, where they will have to face not only technological challenges but also ethical issues. \n\n\n\nHow can schools and universities develop students’ (and whole society’s) skills such as critical thinking and the ability to make thoughtful and ethical decisions\, not leaving behind the important topic of technological literacy? \n\n\n\nThe discussion also centred around the challenges AI brings to education and how education systems should prepare for it. How can students’ critical thinking skills be developed to make informed decisions when working with AI? What are the ethical issues related to AI and how can we teach about them? \n\n\n\nVenue: Kamilou\, Rue Joseph II 36 \n\n\n\nSpeakers: Simona Petkova\, Policy Officer\, Digital Education Unit\, DG EAC\, European Commission – Edouard Lamboray\, Chief Digital Officer\, Educa \n\n\n\nSummary of the event: here
URL:https://www.swisscore.org/event/educafe-how-will-the-age-of-ai-change-how-critical-thinking-is-taught-at-all-levels-of-education/
ATTACH;FMTTYPE=image/jpeg:https://www.swisscore.org/wp-content/uploads/Invitation_EduCafe_AI-scaled.jpg
END:VEVENT
END:VCALENDAR