BEGIN:VCALENDAR
VERSION:2.0
PRODID:-//Swisscore - ECPv6.15.17//NONSGML v1.0//EN
CALSCALE:GREGORIAN
METHOD:PUBLISH
X-ORIGINAL-URL:https://www.swisscore.org
X-WR-CALDESC:Events for Swisscore
REFRESH-INTERVAL;VALUE=DURATION:PT1H
X-Robots-Tag:noindex
X-PUBLISHED-TTL:PT1H
BEGIN:VTIMEZONE
TZID:Europe/Brussels
BEGIN:DAYLIGHT
TZOFFSETFROM:+0100
TZOFFSETTO:+0200
TZNAME:CEST
DTSTART:20230326T010000
END:DAYLIGHT
BEGIN:STANDARD
TZOFFSETFROM:+0200
TZOFFSETTO:+0100
TZNAME:CET
DTSTART:20231029T010000
END:STANDARD
BEGIN:DAYLIGHT
TZOFFSETFROM:+0100
TZOFFSETTO:+0200
TZNAME:CEST
DTSTART:20240331T010000
END:DAYLIGHT
BEGIN:STANDARD
TZOFFSETFROM:+0200
TZOFFSETTO:+0100
TZNAME:CET
DTSTART:20241027T010000
END:STANDARD
BEGIN:DAYLIGHT
TZOFFSETFROM:+0100
TZOFFSETTO:+0200
TZNAME:CEST
DTSTART:20250330T010000
END:DAYLIGHT
BEGIN:STANDARD
TZOFFSETFROM:+0200
TZOFFSETTO:+0100
TZNAME:CET
DTSTART:20251026T010000
END:STANDARD
END:VTIMEZONE
BEGIN:VEVENT
DTSTART;TZID=Europe/Brussels:20240527T140000
DTEND;TZID=Europe/Brussels:20240527T190000
DTSTAMP:20260425T204746
CREATED:20240429T082256Z
LAST-MODIFIED:20240620T093237Z
UID:10000086-1716818400-1716836400@www.swisscore.org
SUMMARY:International collaboration in higher VET
DESCRIPTION:This event was organised by SwissCore and Norcore\, together with Movetia\, the Swiss Exchange and Mobility Agency\, and HK-dir\, the Norwegian Directorate for Higher Education and Skills. \n\n\n\nThe higher or continuing VET sector in Europe is often mentioned when we discuss how to adapt the education and training offer to mend the skills gap created by the green transition or by demographic changes in society. By its flexible nature\, these schools are close to the employers\, and cater both to new students as well as to people who work\, and who seek reskilling and upskilling opportunities. However\, we do know that higher VET in Europe is a very heterogenous sector\, and that it can be difficult to carry out joint projects and mobilities across national borders. In Erasmus+\, they struggle in many countries to find their place within the larger categories of vocational education and higher education\, as they may find themselves in between these two levels. \n\n\n\nThe following questions were addressed: What is the higher VET sector? What are the differences and similarities between different national systems? What are the main barriers for international cooperation and in particular in the current Erasmus+ programme\, and what can be done to mediate these? What are the possibilities? \n\n\n\nProgramme: here \n\n\n\nPresentations: OECD Centre for Skills – KATAPULT \n\n\n\nSummary of the conference: SwissCore article
URL:https://www.swisscore.org/event/international-collaboration-in-higher-vet/
ATTACH;FMTTYPE=image/png:https://www.swisscore.org/wp-content/uploads/International-collaboration-higher-VET_1.png
END:VEVENT
END:VCALENDAR