BEGIN:VCALENDAR
VERSION:2.0
PRODID:-//Swisscore - ECPv6.15.17//NONSGML v1.0//EN
CALSCALE:GREGORIAN
METHOD:PUBLISH
X-WR-CALNAME:Swisscore
X-ORIGINAL-URL:https://www.swisscore.org
X-WR-CALDESC:Events for Swisscore
REFRESH-INTERVAL;VALUE=DURATION:PT1H
X-Robots-Tag:noindex
X-PUBLISHED-TTL:PT1H
BEGIN:VTIMEZONE
TZID:Europe/Brussels
BEGIN:DAYLIGHT
TZOFFSETFROM:+0100
TZOFFSETTO:+0200
TZNAME:CEST
DTSTART:20250330T010000
END:DAYLIGHT
BEGIN:STANDARD
TZOFFSETFROM:+0200
TZOFFSETTO:+0100
TZNAME:CET
DTSTART:20251026T010000
END:STANDARD
BEGIN:DAYLIGHT
TZOFFSETFROM:+0100
TZOFFSETTO:+0200
TZNAME:CEST
DTSTART:20260329T010000
END:DAYLIGHT
BEGIN:STANDARD
TZOFFSETFROM:+0200
TZOFFSETTO:+0100
TZNAME:CET
DTSTART:20261025T010000
END:STANDARD
BEGIN:DAYLIGHT
TZOFFSETFROM:+0100
TZOFFSETTO:+0200
TZNAME:CEST
DTSTART:20270328T010000
END:DAYLIGHT
BEGIN:STANDARD
TZOFFSETFROM:+0200
TZOFFSETTO:+0100
TZNAME:CET
DTSTART:20271031T010000
END:STANDARD
END:VTIMEZONE
BEGIN:VEVENT
DTSTART;TZID=Europe/Brussels:20260629T160000
DTEND;TZID=Europe/Brussels:20260629T160000
DTSTAMP:20260424T134752
CREATED:20260414T140612Z
LAST-MODIFIED:20260414T140616Z
UID:10000099-1782748800-1782748800@www.swisscore.org
SUMMARY:SwissCore Annual Event
DESCRIPTION:Cooperate to innovate – What we can learn from the Eureka network \n\n\n\nAs Switzerland brings its Eureka Presidency to a close\, the SwissCore Annual Event 2026 will focus on the role of international cooperation in fostering innovation. We are convinced that Europe needs to cooperate to innovate. We will highlight key factors that drive successful innovation and inspirational instruments to support start-ups. We will draw lessons from the Eureka network for the future of European cooperation in innovation and the preparation of FP10 and related innovation policies.  \n\n\n\nA detailed programme and link to register will follow here soon. 
URL:https://www.swisscore.org/event/swisscore-annual-event/
END:VEVENT
END:VCALENDAR